BEGIN:VCALENDAR
VERSION:2.0
PRODID:icalendar-ruby
CALSCALE:GREGORIAN
METHOD:PUBLISH
BEGIN:VEVENT
DTSTAMP:20260422T055208Z
UID:7e96e238-242f-4e4f-b4c9-c37a6e2e6468
DTSTART:20210917T180000
DTEND:20210917T220000
DESCRIPTION:<p>We all have that voice inside our head. It tells us not to s
 ay things we “shouldn’t”. </p><p><br></p><p>It hinders us from embr
 acing possibilities. It prohibits us from being truly free.</p><p><br></p>
 <p>On this night – we turn off that filter. We release our inhibitions a
 nd celebrate the bold\, unfiltered\, liberated\, authentic YOU.</p><p><br>
 </p><p>Join us as we cut the fluff and you’re encouraged to lose yoursel
 f to find yourself. #nofilter</p><p><br></p><p>Caning out relentless\, unc
 ompromising beats on the night will be: We have assembled a selection of l
 ocal stars that would silence even the harshest critics. </p><p><br></p><
 p><br></p><p>***L I N E U P***</p><p>HEADROOM</p><p>MOGEY</p><p>Minx</p><p
 >Mia</p><p>LMC</p><p>Daryn Steytler</p><p>DJ Wabs</p><p><br></p><p><br></p
 ><p><br></p><p>D A T E</p><p>FRIDAY 17 SEPTEMBER 2021</p><p><br></p><p><br
 ></p><p>T I M E</p><p>18H00 - 22h00</p><p><br></p><p><br></p><p>V E N U E<
 /p><p>Botanik Social House</p><p><br></p><p><br></p><p>*Regrettably no ref
 unds</p><p>*Right of admission reserved</p><p><br></p><p><br></p><p>T A B 
 L E B O O K I N G S </p><p>Table booking must be seated before 19h00. To 
 book inbox @Anomaly CT</p><p><br></p><p><br></p><p>C - 1 9 S A F E T Y P R
  O T O C O L S</p><p>To prevent the spread of covid-19\, the following wil
 l be in place. </p><p>- Limited capacity as per government regulations</p
 ><p>- ID is essential upon entry</p><p>- Sanitising of hands is compulsory
  on entry</p><p>- Temperature\, first name\, surname & preferred contact m
 ethod will be recorded upon entry.</p><p>- No mask\, no entry. </p><p>- P
 lease respect social distancing & safety of those around you. </p><p>- Sa
 nitiser will be available for use all over the venue. </p><p>- Tables & s
 eating will be spaced out according to government regulations. </p><p>- S
 ocial distancing will be enforced. </p><p>- If you are feeling unwell or 
 have a high temperature please do not attend.</p><p>- Regrettably no refun
 ds</p><p><br></p><p><br></p><p>D I S C L A I M E R</p><p>THIS EVENT\, IT'S
  ORGANIZERS AND VENUE TAKE NO RESPONSIBILITY FOR ANY LOSS OR DAMAGE TO PER
 SONAL PROPERTY\, PERSONAL INJURY/LOSS OR DEATH. ENTERING THE VENUE IS ENTI
 RELY AT OWN RISK. RIGHT OF ADMISSION RESERVED. NO UNDER 18s PERMITTED. NO 
 MASK\, NO ENTRY\, STRICT COVID-19 PROTOCOLS IN PLACE\, SOCIAL DISTANCING W
 ILL BE ENFORCED\, SIGN IN & SANITISING OF HANDS ESSENTIAL ON ENTRY. REGRET
 TABLY NO REFUNDS</p>
LOCATION:54 Queen Victoria Street\, Cape Town
SUMMARY:No Filter ft. Headroom\, Mogey & more
URL;VALUE=URI:https://foosic.howler.co.za/nofilter17sep
END:VEVENT
END:VCALENDAR
